BEGIN:VCALENDAR
VERSION:2.0
PRODID:-//Ippodromo Paolo Sesto - ECPv5.14.0.4//NONSGML v1.0//EN
CALSCALE:GREGORIAN
METHOD:PUBLISH
X-WR-CALNAME:Ippodromo Paolo Sesto
X-ORIGINAL-URL:https://ippodromopaolosesto.com
X-WR-CALDESC:Events for Ippodromo Paolo Sesto
REFRESH-INTERVAL;VALUE=DURATION:PT1H
X-Robots-Tag:noindex
X-PUBLISHED-TTL:PT1H
BEGIN:VTIMEZONE
TZID:UTC
BEGIN:STANDARD
TZOFFSETFROM:+0000
TZOFFSETTO:+0000
TZNAME:UTC
DTSTART:20220101T000000
END:STANDARD
END:VTIMEZONE
BEGIN:VEVENT
DTSTART;TZID=UTC:20220412T080000
DTEND;TZID=UTC:20220412T170000
DTSTAMP:20260422T223639
CREATED:20220412T065547Z
LAST-MODIFIED:20220412T065547Z
UID:1592-1649750400-1649782800@ippodromopaolosesto.com
SUMMARY:Corse al trotto 12/04/2022 - Giornata Gentleman
DESCRIPTION:7 corse in programma Inizio corse ore 15.15  – Ultima corsa ore 18.05 \nPossibilità di scommettere su tutte le corse  di Taranto ed anche degli altri ippodromi impegnati in giornata. \nSi tratta di una giornata dedicata esclusivamente ai gentleman driver
URL:https://ippodromopaolosesto.com/event/corse-al-trotto-12-04-2022-giornata-gentleman/
END:VEVENT
END:VCALENDAR