BEGIN:VCALENDAR
VERSION:2.0
PRODID:-//Ippodromo Paolo Sesto - ECPv5.14.0.4//NONSGML v1.0//EN
CALSCALE:GREGORIAN
METHOD:PUBLISH
X-WR-CALNAME:Ippodromo Paolo Sesto
X-ORIGINAL-URL:https://ippodromopaolosesto.com
X-WR-CALDESC:Events for Ippodromo Paolo Sesto
REFRESH-INTERVAL;VALUE=DURATION:PT1H
X-Robots-Tag:noindex
X-PUBLISHED-TTL:PT1H
BEGIN:VTIMEZONE
TZID:UTC
BEGIN:STANDARD
TZOFFSETFROM:+0000
TZOFFSETTO:+0000
TZNAME:UTC
DTSTART:20220101T000000
END:STANDARD
END:VTIMEZONE
BEGIN:VEVENT
DTSTART;VALUE=DATE:20220503
DTEND;VALUE=DATE:20220504
DTSTAMP:20260422T154437
CREATED:20220429T103040Z
LAST-MODIFIED:20220429T103659Z
UID:1607-1651536000-1651622399@ippodromopaolosesto.com
SUMMARY:Corse al trotto 03/05/2022
DESCRIPTION:7 corse in programma Inizio corse ore 15.30  – Ultima corsa ore 18.25 \nPossibilità di scommettere su tutte le corse  di Taranto ed anche degli altri ippodromi impegnati in giornata. \nParco giochi per i più piccoli \nPunto ristoro \nRistorante panoramico
URL:https://ippodromopaolosesto.com/event/corse-al-trotto-03-05-2022/
CATEGORIES:Ippica
END:VEVENT
BEGIN:VEVENT
DTSTART;VALUE=DATE:20220511
DTEND;VALUE=DATE:20220512
DTSTAMP:20260422T154437
CREATED:20220429T103857Z
LAST-MODIFIED:20220429T103857Z
UID:1612-1652227200-1652313599@ippodromopaolosesto.com
SUMMARY:11/05/2022 - L'ora di ricreazione
DESCRIPTION:Mercoledì 11 Maggio accoglieremo diverse scolaresche\, tra le quali la vincitrice del contest Earth Day\, che omaggiava il giorno della terra\, l’Istituto Galileo Galilei di Taranto\, ideato da una nostra ex collaboratrice (ma ancora di famiglia) Annamaria Sapienza.\n\n\nA tutti i ragazzi che verranno a trovarci offriremo anche una simpatica sorpresa\, ed una gustosa merenda.\n\n\nDi seguito le locandine con tutte le informazioni.\n\n\nCi sarà da divertirsi.
URL:https://ippodromopaolosesto.com/event/11-05-2022-lora-di-ricreazione/
CATEGORIES:Ippica
ATTACH;FMTTYPE=image/jpeg:https://ippodromopaolosesto.com/wp-content/uploads/2022/04/279351331_395351645932401_3241014299902151242_n.jpg
END:VEVENT
BEGIN:VEVENT
DTSTART;VALUE=DATE:20220517
DTEND;VALUE=DATE:20220518
DTSTAMP:20260422T154437
CREATED:20220429T103229Z
LAST-MODIFIED:20220429T103457Z
UID:1609-1652745600-1652831999@ippodromopaolosesto.com
SUMMARY:Corse al trotto 17/05/2022
DESCRIPTION:7 corse in programma Inizio corse ore 15.30  – Ultima corsa ore 18.25 \nPossibilità di scommettere su tutte le corse  di Taranto ed anche degli altri ippodromi impegnati in giornata. \nParco giochi per i più piccoli \nPunto ristoro \nRistorante panoramico
URL:https://ippodromopaolosesto.com/event/17-05-2022/
CATEGORIES:Ippica
END:VEVENT
BEGIN:VEVENT
DTSTART;VALUE=DATE:20220524
DTEND;VALUE=DATE:20220525
DTSTAMP:20260422T154437
CREATED:20220429T104132Z
LAST-MODIFIED:20220429T104132Z
UID:1615-1653350400-1653436799@ippodromopaolosesto.com
SUMMARY:Corse al trotto 24/05/2022
DESCRIPTION:7 corse in programma Inizio corse ore 15.30  – Ultima corsa ore 18.25 \nPossibilità di scommettere su tutte le corse  di Taranto ed anche degli altri ippodromi impegnati in giornata. \nParco giochi per i più piccoli \nPunto ristoro \nRistorante panoramico
URL:https://ippodromopaolosesto.com/event/corse-al-trotto-24-05-2022/
CATEGORIES:Ippica
ATTACH;FMTTYPE=image/png:https://ippodromopaolosesto.com/wp-content/uploads/2022/02/ippodromo-paolo-sesto-taranto-logo-web-01.png
END:VEVENT
BEGIN:VEVENT
DTSTART;VALUE=DATE:20220531
DTEND;VALUE=DATE:20220601
DTSTAMP:20260422T154437
CREATED:20220429T104326Z
LAST-MODIFIED:20220429T104326Z
UID:1617-1653955200-1654041599@ippodromopaolosesto.com
SUMMARY:Corse al trotto 31/05/2022
DESCRIPTION:7 corse in programma Inizio corse ore 15.30  – Ultima corsa ore 18.25 \nPossibilità di scommettere su tutte le corse  di Taranto ed anche degli altri ippodromi impegnati in giornata. \nParco giochi per i più piccoli \nPunto ristoro \nRistorante panoramico
URL:https://ippodromopaolosesto.com/event/corse-al-trotto-31-05-2022/
CATEGORIES:Ippica
ATTACH;FMTTYPE=image/jpeg:https://ippodromopaolosesto.com/wp-content/uploads/2022/02/ippodromo-paolo-sesto-taranto-gallery-16.jpg
END:VEVENT
END:VCALENDAR