BEGIN:VCALENDAR
VERSION:2.0
PRODID:-//Ippodromo Paolo Sesto - ECPv5.14.0.4//NONSGML v1.0//EN
CALSCALE:GREGORIAN
METHOD:PUBLISH
X-WR-CALNAME:Ippodromo Paolo Sesto
X-ORIGINAL-URL:https://ippodromopaolosesto.com
X-WR-CALDESC:Events for Ippodromo Paolo Sesto
REFRESH-INTERVAL;VALUE=DURATION:PT1H
X-Robots-Tag:noindex
X-PUBLISHED-TTL:PT1H
BEGIN:VTIMEZONE
TZID:UTC
BEGIN:STANDARD
TZOFFSETFROM:+0000
TZOFFSETTO:+0000
TZNAME:UTC
DTSTART:20220101T000000
END:STANDARD
END:VTIMEZONE
BEGIN:VEVENT
DTSTART;VALUE=DATE:20221011
DTEND;VALUE=DATE:20221012
DTSTAMP:20260421T185550
CREATED:20221006T093139Z
LAST-MODIFIED:20221006T094337Z
UID:1800-1665446400-1665532799@ippodromopaolosesto.com
SUMMARY:Corse al trotto 11/10/2022
DESCRIPTION:7 corse in programma Inizio corse ore 15.00  – Ultima corsa ore 18.00 \nPossibilità di scommettere su tutte le corse  di Taranto ed anche degli altri ippodromi impegnati in giornata. \nParco giochi per i più piccoli \nPunto ristoro
URL:https://ippodromopaolosesto.com/event/corse-al-trotto-11-10-2022/
LOCATION:Ippodromo Paolo VI\, C.da Macchie\, Via per Montemesola\, Taranto\, 74123\, Italia
ATTACH;FMTTYPE=image/png:https://ippodromopaolosesto.com/wp-content/uploads/2017/05/ippodromo-paolo-sesto-taranto-icon-02.png
END:VEVENT
BEGIN:VEVENT
DTSTART;VALUE=DATE:20221016
DTEND;VALUE=DATE:20221017
DTSTAMP:20260421T185550
CREATED:20221006T094044Z
LAST-MODIFIED:20221006T094406Z
UID:1802-1665878400-1665964799@ippodromopaolosesto.com
SUMMARY:Corse al trotto 16/10/2022
DESCRIPTION:7 corse in programma Inizio corse ore 15.00  – Ultima corsa ore 18.00 \nPossibilità di scommettere su tutte le corse  di Taranto ed anche degli altri ippodromi impegnati in giornata. \nParco giochi per i più piccoli \nPunto ristoro
URL:https://ippodromopaolosesto.com/event/corse-al-trotto-16-10-2022/
LOCATION:Ippodromo Paolo VI\, C.da Macchie\, Via per Montemesola\, Taranto\, 74123\, Italia
ATTACH;FMTTYPE=image/png:https://ippodromopaolosesto.com/wp-content/uploads/2017/05/ippodromo-paolo-sesto-taranto-icon-02.png
END:VEVENT
BEGIN:VEVENT
DTSTART;VALUE=DATE:20221018
DTEND;VALUE=DATE:20221019
DTSTAMP:20260421T185550
CREATED:20221006T094252Z
LAST-MODIFIED:20221006T094252Z
UID:1804-1666051200-1666137599@ippodromopaolosesto.com
SUMMARY:Corse al trotto 18/10/2022
DESCRIPTION:7 corse in programma Inizio corse ore 15.00  – Ultima corsa ore 18.00 \nPossibilità di scommettere su tutte le corse  di Taranto ed anche degli altri ippodromi impegnati in giornata. \nParco giochi per i più piccoli \nPunto ristoro
URL:https://ippodromopaolosesto.com/event/corse-al-trotto-18-10-2022/
LOCATION:Ippodromo Paolo VI\, C.da Macchie\, Via per Montemesola\, Taranto\, 74123\, Italia
ATTACH;FMTTYPE=image/png:https://ippodromopaolosesto.com/wp-content/uploads/2022/02/ippodromo-paolo-sesto-taranto-favicon.png
END:VEVENT
BEGIN:VEVENT
DTSTART;VALUE=DATE:20221025
DTEND;VALUE=DATE:20221026
DTSTAMP:20260421T185550
CREATED:20221006T094518Z
LAST-MODIFIED:20221006T094518Z
UID:1806-1666656000-1666742399@ippodromopaolosesto.com
SUMMARY:Corse al trotto 25/10/2022
DESCRIPTION:7 corse in programma Inizio corse ore 15.00  – Ultima corsa ore 18.00 \nPossibilità di scommettere su tutte le corse  di Taranto ed anche degli altri ippodromi impegnati in giornata. \nParco giochi per i più piccoli \nPunto ristoro
URL:https://ippodromopaolosesto.com/event/corse-al-trotto-25-10-2022/
LOCATION:Ippodromo Paolo VI\, C.da Macchie\, Via per Montemesola\, Taranto\, 74123\, Italia
ATTACH;FMTTYPE=image/jpeg:https://ippodromopaolosesto.com/wp-content/uploads/2022/02/ippodromo-paolo-sesto-taranto-gallery-13.jpg
END:VEVENT
END:VCALENDAR